BEGIN:VCALENDAR
VERSION:2.0
PRODID:-//La Bom - Bibliothèque d’objets de Montreuil - ECPv6.15.17//NONSGML v1.0//EN
CALSCALE:GREGORIAN
METHOD:PUBLISH
X-ORIGINAL-URL:https://bom93.com
X-WR-CALDESC:Évènements pour La Bom - Bibliothèque d’objets de Montreuil
REFRESH-INTERVAL;VALUE=DURATION:PT1H
X-Robots-Tag:noindex
X-PUBLISHED-TTL:PT1H
BEGIN:VTIMEZONE
TZID:Europe/Paris
BEGIN:DAYLIGHT
TZOFFSETFROM:+0100
TZOFFSETTO:+0200
TZNAME:CEST
DTSTART:20240331T010000
END:DAYLIGHT
BEGIN:STANDARD
TZOFFSETFROM:+0200
TZOFFSETTO:+0100
TZNAME:CET
DTSTART:20241027T010000
END:STANDARD
BEGIN:DAYLIGHT
TZOFFSETFROM:+0100
TZOFFSETTO:+0200
TZNAME:CEST
DTSTART:20250330T010000
END:DAYLIGHT
BEGIN:STANDARD
TZOFFSETFROM:+0200
TZOFFSETTO:+0100
TZNAME:CET
DTSTART:20251026T010000
END:STANDARD
BEGIN:DAYLIGHT
TZOFFSETFROM:+0100
TZOFFSETTO:+0200
TZNAME:CEST
DTSTART:20260329T010000
END:DAYLIGHT
BEGIN:STANDARD
TZOFFSETFROM:+0200
TZOFFSETTO:+0100
TZNAME:CET
DTSTART:20261025T010000
END:STANDARD
END:VTIMEZONE
BEGIN:VEVENT
DTSTART;TZID=Europe/Paris:20250524T110000
DTEND;TZID=Europe/Paris:20250524T150000
DTSTAMP:20260420T011603
CREATED:20250429T092846Z
LAST-MODIFIED:20250429T092846Z
UID:10001688-1748084400-1748098800@bom93.com
SUMMARY:Permanence menuiserie
DESCRIPTION:Durant la permanence\, un bénévole est présent afin de vous accompagner dans vos projets de menuiserie en tout genre. Attention\, il faut venir avec son projet et une idée précise.\nLe bénévole est là pour vous accompagner et non faire à votre place. Vous serez plusieurs en même temps.
URL:https://bom93.com/event/permanence-menuiserie-4/
LOCATION:La BOM\, 2 rue Girard\, Montreuil\, 93100\, France
CATEGORIES:Atelier,Bois,Bricolage,Partage de savoir
ATTACH;FMTTYPE=image/webp:https://bom93.com/wp-content/uploads/2023/08/Ateliers-_2_.webp
END:VEVENT
BEGIN:VEVENT
DTSTART;TZID=Europe/Paris:20250524T110000
DTEND;TZID=Europe/Paris:20250524T170000
DTSTAMP:20260420T011603
CREATED:20230430T124512Z
LAST-MODIFIED:20250328T182030Z
UID:10000776-1748084400-1748106000@bom93.com
SUMMARY:Atelier co-réparation
DESCRIPTION:Venez avec un objet défectueux\, et réparez-le avec nos supers réparateurs Michel\, Nicolas et Elric !La BOM ne saurait se concevoir sans un atelier de co-réparation. Selon l’ADEME\, 90% des pannes sont réparables. Un aspirateur en panne\, un grille-pain cassé ou encore une radio détraquée ?En tant que lieu ressource sur les sujets du réemploi et de la réparation\, la BOM vous propose des sessions de co-réparation à prix libre. Accompagné d’un super réparateur aux doigts de fée\, vous apprendrez comment réparer votre objet défectueux lorsque c’est possible. \nToutes les demi-heures de 11h à 12h\, et de 14H à 17h \nCliquez sur inscription pour choisir votre horaire
URL:https://bom93.com/event/atelier-co-reparation-16/2025-05-24/
LOCATION:La BOM\, 2 rue Girard\, Montreuil\, 93100\, France
CATEGORIES:Co-réparation
ATTACH;FMTTYPE=image/webp:https://bom93.com/wp-content/uploads/2023/03/EVENT-CO-REP.webp
END:VEVENT
BEGIN:VEVENT
DTSTART;TZID=Europe/Paris:20250524T140000
DTEND;TZID=Europe/Paris:20250524T160000
DTSTAMP:20260420T011603
CREATED:20250429T093608Z
LAST-MODIFIED:20250429T093608Z
UID:10001690-1748095200-1748102400@bom93.com
SUMMARY:Atelier Les bons gestes mécaniques pour mon vélo
DESCRIPTION:Pour être autonome sur les réparations de base de son vélo\, rien de mieux que cet atelier !\nEdward vous apprend le B.A-BA du freinage\, des roues\, des vitesses et de la transmission. Avec une partie théorique sur la mécanique\, et une partie où les participant.es pourront expérimenter les gestes de réparation sur un vélo.
URL:https://bom93.com/event/atelier-les-bons-gestes-mecaniques-pour-mon-velo/
LOCATION:La BOM\, 2 rue Girard\, Montreuil\, 93100\, France
CATEGORIES:Atelier,Partage de savoir,Réparation
ATTACH;FMTTYPE=image/webp:https://bom93.com/wp-content/uploads/2023/03/EVENT-Repartation-velo.webp
END:VEVENT
BEGIN:VEVENT
DTSTART;TZID=Europe/Paris:20250524T140000
DTEND;TZID=Europe/Paris:20250524T170000
DTSTAMP:20260420T011603
CREATED:20250429T093215Z
LAST-MODIFIED:20250429T093215Z
UID:10001689-1748095200-1748106000@bom93.com
SUMMARY:Permanence couture
DESCRIPTION:Besoin d’un coup de pouce pour réparer un t-shirt troué ? Changer la fermeture éclair d’un jean ? Vous lancer un projet de couture en découvrant les bases de l’utilisation d’une machine à coudre ?\nLes permanences couture de la BOM vous permettent de profiter de l’espace et des machines de la BOM. Les permanences sont encadrées par des bénévoles pour vous guider et vous conseiller sur l’utilisation des machines. \nSans inscription\, dans la limite des places disponibles 🙂\nLa participation financière est libre\, à la hauteur de vos moyens. Elle permet de contribuer aux frais de gestion de la BOM.
URL:https://bom93.com/event/permanence-couture-3/
LOCATION:La BOM\, 2 rue Girard\, Montreuil\, 93100\, France
CATEGORIES:Atelier,Couture,Partage de savoir,Réparation
ATTACH;FMTTYPE=image/webp:https://bom93.com/wp-content/uploads/2023/06/Activites-manuelles-_1_.webp
END:VEVENT
END:VCALENDAR