BEGIN:VCALENDAR
VERSION:2.0
PRODID:-//La Bom - Bibliothèque d’objets de Montreuil - ECPv6.15.17//NONSGML v1.0//EN
CALSCALE:GREGORIAN
METHOD:PUBLISH
X-WR-CALNAME:La Bom - Bibliothèque d’objets de Montreuil
X-ORIGINAL-URL:https://bom93.com
X-WR-CALDESC:Évènements pour La Bom - Bibliothèque d’objets de Montreuil
REFRESH-INTERVAL;VALUE=DURATION:PT1H
X-Robots-Tag:noindex
X-PUBLISHED-TTL:PT1H
BEGIN:VTIMEZONE
TZID:Europe/Paris
BEGIN:DAYLIGHT
TZOFFSETFROM:+0100
TZOFFSETTO:+0200
TZNAME:CEST
DTSTART:20240331T010000
END:DAYLIGHT
BEGIN:STANDARD
TZOFFSETFROM:+0200
TZOFFSETTO:+0100
TZNAME:CET
DTSTART:20241027T010000
END:STANDARD
BEGIN:DAYLIGHT
TZOFFSETFROM:+0100
TZOFFSETTO:+0200
TZNAME:CEST
DTSTART:20250330T010000
END:DAYLIGHT
BEGIN:STANDARD
TZOFFSETFROM:+0200
TZOFFSETTO:+0100
TZNAME:CET
DTSTART:20251026T010000
END:STANDARD
BEGIN:DAYLIGHT
TZOFFSETFROM:+0100
TZOFFSETTO:+0200
TZNAME:CEST
DTSTART:20260329T010000
END:DAYLIGHT
BEGIN:STANDARD
TZOFFSETFROM:+0200
TZOFFSETTO:+0100
TZNAME:CET
DTSTART:20261025T010000
END:STANDARD
END:VTIMEZONE
BEGIN:VEVENT
DTSTART;TZID=Europe/Paris:20250604T140000
DTEND;TZID=Europe/Paris:20250604T170000
DTSTAMP:20260422T133103
CREATED:20250527T150103Z
LAST-MODIFIED:20250527T150103Z
UID:10001696-1749045600-1749056400@bom93.com
SUMMARY:Permanence couture
DESCRIPTION:Besoin d’un coup de pouce pour réparer un t-shirt troué ? Changer la fermeture éclair d’un jean ? Vous lancer un projet de couture en découvrant les bases de l’utilisation d’une machine à coudre ?\nLes permanences couture de la BOM vous permettent de profiter de l’espace et des machines de la BOM. Les permanences sont encadrées par des bénévoles pour vous guider et vous conseiller sur l’utilisation des machines. La participation financière est libre\, à la hauteur de vos moyens. Elle permet de contribuer aux frais de gestion de la BOM. \nSans inscription\, dans la limite des places disponibles 🙂
URL:https://bom93.com/event/permanence-couture-4/
LOCATION:La BOM\, 2 rue Girard\, Montreuil\, 93100\, France
CATEGORIES:Atelier,Couture,Partage de savoir,Réparation
ATTACH;FMTTYPE=image/webp:https://bom93.com/wp-content/uploads/2023/06/Activites-manuelles-_1_.webp
END:VEVENT
BEGIN:VEVENT
DTSTART;TZID=Europe/Paris:20250524T140000
DTEND;TZID=Europe/Paris:20250524T170000
DTSTAMP:20260422T133103
CREATED:20250429T093215Z
LAST-MODIFIED:20250429T093215Z
UID:10001689-1748095200-1748106000@bom93.com
SUMMARY:Permanence couture
DESCRIPTION:Besoin d’un coup de pouce pour réparer un t-shirt troué ? Changer la fermeture éclair d’un jean ? Vous lancer un projet de couture en découvrant les bases de l’utilisation d’une machine à coudre ?\nLes permanences couture de la BOM vous permettent de profiter de l’espace et des machines de la BOM. Les permanences sont encadrées par des bénévoles pour vous guider et vous conseiller sur l’utilisation des machines. \nSans inscription\, dans la limite des places disponibles 🙂\nLa participation financière est libre\, à la hauteur de vos moyens. Elle permet de contribuer aux frais de gestion de la BOM.
URL:https://bom93.com/event/permanence-couture-3/
LOCATION:La BOM\, 2 rue Girard\, Montreuil\, 93100\, France
CATEGORIES:Atelier,Couture,Partage de savoir,Réparation
ATTACH;FMTTYPE=image/webp:https://bom93.com/wp-content/uploads/2023/06/Activites-manuelles-_1_.webp
END:VEVENT
BEGIN:VEVENT
DTSTART;TZID=Europe/Paris:20250521T140000
DTEND;TZID=Europe/Paris:20250521T170000
DTSTAMP:20260422T133103
CREATED:20250429T092209Z
LAST-MODIFIED:20250429T092209Z
UID:10001687-1747836000-1747846800@bom93.com
SUMMARY:Permanence couture
DESCRIPTION:Besoin d’un coup de pouce pour réparer un t-shirt troué ? Changer la fermeture éclair d’un jean ? Vous lancer un projet de couture en découvrant les bases de l’utilisation d’une machine à coudre ?\nLes permanences couture de la BOM vous permettent de profiter de l’espace et des machines de la BOM. Les permanences sont encadrées par des bénévoles pour vous guider et vous conseiller sur l’utilisation des machines. \nSans inscription\, dans la limite des places disponibles 🙂\nLa participation financière est libre\, à la hauteur de vos moyens. Elle permet de contribuer aux frais de gestion de la BOM.
URL:https://bom93.com/event/permanence-couture-2/
LOCATION:La BOM\, 2 rue Girard\, Montreuil\, 93100\, France
CATEGORIES:Atelier,Couture,Partage de savoir,Réparation
ATTACH;FMTTYPE=image/webp:https://bom93.com/wp-content/uploads/2023/06/Activites-manuelles-_1_.webp
END:VEVENT
BEGIN:VEVENT
DTSTART;TZID=Europe/Paris:20250514T140000
DTEND;TZID=Europe/Paris:20250514T170000
DTSTAMP:20260422T133103
CREATED:20250426T135901Z
LAST-MODIFIED:20250426T135901Z
UID:10001681-1747231200-1747242000@bom93.com
SUMMARY:Permanence couture
DESCRIPTION:Besoin d’un coup de pouce pour réparer un t-shirt troué ? Changer la fermeture éclair d’un jean ? Vous lancer un projet de couture en découvrant les bases de l’utilisation d’une machine à coudre ?\nLes permanences couture de la BOM vous permettent de profiter de l’espace et des machines de la BOM. Les permanences sont encadrées par des bénévoles pour vous guider et vous conseiller sur l’utilisation des machines. \nSans inscription\, dans la limite des places disponibles 🙂\nLa participation financière est libre\, à la hauteur de vos moyens. Elle permet de contribuer aux frais de gestion de la BOM.
URL:https://bom93.com/event/permanence-couture/
LOCATION:La BOM\, 2 rue Girard\, Montreuil\, 93100\, France
CATEGORIES:Atelier,Couture,Partage de savoir,Réparation
ATTACH;FMTTYPE=image/webp:https://bom93.com/wp-content/uploads/2023/06/Activites-manuelles-_1_.webp
END:VEVENT
BEGIN:VEVENT
DTSTART;TZID=Europe/Paris:20250510T140000
DTEND;TZID=Europe/Paris:20250510T170000
DTSTAMP:20260422T133103
CREATED:20250430T125744Z
LAST-MODIFIED:20250430T125744Z
UID:10001694-1746885600-1746896400@bom93.com
SUMMARY:Permanence couture et atelier sac à tarte
DESCRIPTION:Besoin d’un coup de pouce pour réparer un t-shirt troué ? Changer la fermeture éclair d’un jean ? Vous lancer un projet de couture en découvrant les bases de l’utilisation d’une machine à coudre ?\nLes permanences couture de la BOM vous permettent de profiter de l’espace et des machines de la BOM. Les permanences sont encadrées par des bénévoles pour vous guider et vous conseiller sur l’utilisation des machines. \nSans inscription\, dans la limite des places disponibles 🙂\nLa participation financière est libre\, à la hauteur de vos moyens. Elle permet de contribuer aux frais de gestion de la BOM.
URL:https://bom93.com/event/permanence-couture-et-atelier-sac-a-tarte/
LOCATION:La BOM\, 2 rue Girard\, Montreuil\, 93100\, France
CATEGORIES:Atelier,Couture,Partage de savoir,Réparation
ATTACH;FMTTYPE=image/webp:https://bom93.com/wp-content/uploads/2023/06/Activites-manuelles-_1_.webp
END:VEVENT
BEGIN:VEVENT
DTSTART;TZID=Europe/Paris:20250430T140000
DTEND;TZID=Europe/Paris:20250430T170000
DTSTAMP:20260422T133103
CREATED:20250327T111147Z
LAST-MODIFIED:20250327T111147Z
UID:10001669-1746021600-1746032400@bom93.com
SUMMARY:Atelier couture - Guirlande de fanions
DESCRIPTION:Nos bénévoles en couture vous propose de vous aider à fabriquer de jolies guirlandes de fanions. À partir de tissus de récup présents dans l’atelier\, vous pourrez apprendre à vous servir d’une machine à coudre et repartir avec votre déco 100% écolo.
URL:https://bom93.com/event/atelier-couture-guirlande-de-fanions/
LOCATION:La BOM\, 2 rue Girard\, Montreuil\, 93100\, France
CATEGORIES:Atelier,Couture,Création,Fabrication
ATTACH;FMTTYPE=image/webp:https://bom93.com/wp-content/uploads/2023/06/Activites-manuelles-_1_.webp
END:VEVENT
BEGIN:VEVENT
DTSTART;TZID=Europe/Paris:20250423T140000
DTEND;TZID=Europe/Paris:20250423T170000
DTSTAMP:20260422T133103
CREATED:20250326T143508Z
LAST-MODIFIED:20250326T143508Z
UID:10001657-1745416800-1745427600@bom93.com
SUMMARY:Permanence couture
DESCRIPTION:Besoin d’un coup de pouce pour réparer un t-shirt troué ? Changer la fermeture éclair d’un jean ? Vous lancer un projet de couture en découvrant les bases de l’utilisation d’une machine à coudre ?\nLes permanences couture de la BOM vous permettent de profiter de l’espace et des machines de la BOM. Les permanences sont encadrées par des bénévoles pour vous guider et vous conseiller sur l’utilisation des machines. \nSans inscription\, dans la limite des places disponibles 🙂\nLa participation financière est libre\, à la hauteur de vos moyens. Elle permet de contribuer aux frais de gestion de la BOM.
URL:https://bom93.com/event/permanence-couture-43/
LOCATION:La BOM\, 2 rue Girard\, Montreuil\, 93100\, France
CATEGORIES:Atelier,Couture,Partage de savoir,Réparation
ATTACH;FMTTYPE=image/webp:https://bom93.com/wp-content/uploads/2023/06/Activites-manuelles-_1_.webp
END:VEVENT
BEGIN:VEVENT
DTSTART;TZID=Europe/Paris:20250416T140000
DTEND;TZID=Europe/Paris:20250416T170000
DTSTAMP:20260422T133103
CREATED:20250327T154746Z
LAST-MODIFIED:20250327T154746Z
UID:10001670-1744812000-1744822800@bom93.com
SUMMARY:Permanence couture
DESCRIPTION:Besoin d’un coup de pouce pour réparer un t-shirt troué ? Changer la fermeture éclair d’un jean ? Vous lancer un projet de couture en découvrant les bases de l’utilisation d’une machine à coudre ?\nLes permanences couture de la BOM vous permettent de profiter de l’espace et des machines de la BOM. Les permanences sont encadrées par des bénévoles pour vous guider et vous conseiller sur l’utilisation des machines. \nSans inscription\, dans la limite des places disponibles 🙂\nLa participation financière est libre\, à la hauteur de vos moyens. Elle permet de contribuer aux frais de gestion de la BOM.
URL:https://bom93.com/event/permanence-couture-41/
LOCATION:La BOM\, 2 rue Girard\, Montreuil\, 93100\, France
CATEGORIES:Atelier,Couture,Partage de savoir,Réparation
ATTACH;FMTTYPE=image/webp:https://bom93.com/wp-content/uploads/2023/06/Activites-manuelles-_1_.webp
END:VEVENT
BEGIN:VEVENT
DTSTART;TZID=Europe/Paris:20250409T140000
DTEND;TZID=Europe/Paris:20250409T170000
DTSTAMP:20260422T133103
CREATED:20250326T132229Z
LAST-MODIFIED:20250326T132229Z
UID:10001647-1744207200-1744218000@bom93.com
SUMMARY:Permanence couture
DESCRIPTION:Besoin d’un coup de pouce pour réparer un t-shirt troué ? Changer la fermeture éclair d’un jean ? Vous lancer un projet de couture en découvrant les bases de l’utilisation d’une machine à coudre ?\nLes permanences couture de la BOM vous permettent de profiter de l’espace et des machines de la BOM. Les permanences sont encadrées par des bénévoles pour vous guider et vous conseiller sur l’utilisation des machines. \nSans inscription\, dans la limite des places disponibles 🙂\nLa participation financière est libre\, à la hauteur de vos moyens. Elle permet de contribuer aux frais de gestion de la BOM.
URL:https://bom93.com/event/permanence-couture-40/
LOCATION:La BOM\, 2 rue Girard\, Montreuil\, 93100\, France
CATEGORIES:Atelier,Couture,Partage de savoir,Réparation
ATTACH;FMTTYPE=image/webp:https://bom93.com/wp-content/uploads/2023/06/Activites-manuelles-_1_.webp
END:VEVENT
BEGIN:VEVENT
DTSTART;TZID=Europe/Paris:20250326T140000
DTEND;TZID=Europe/Paris:20250326T170000
DTSTAMP:20260422T133103
CREATED:20250224T151329Z
LAST-MODIFIED:20250226T123801Z
UID:10001631-1742997600-1743008400@bom93.com
SUMMARY:Permanence couture
DESCRIPTION:Besoin d’un coup de pouce pour réparer un t-shirt troué ? Changer la fermeture éclair d’un jean ? Vous lancer un projet de couture en découvrant les bases de l’utilisation d’une machine à coudre ?\nLes permanences couture de la BOM vous permettent de profiter de l’espace et des machines de la BOM. Les permanences sont encadrées par des bénévoles pour vous guider et vous conseiller sur l’utilisation des machines. \nSans inscription\, dans la limite des places disponibles 🙂\nLa participation financière est libre\, à la hauteur de vos moyens. Elle permet de contribuer aux frais de gestion de la BOM.
URL:https://bom93.com/event/permanence-couture-34/
LOCATION:La BOM\, 2 rue Girard\, Montreuil\, 93100\, France
CATEGORIES:Atelier,Couture,Partage de savoir,Réparation
ATTACH;FMTTYPE=image/webp:https://bom93.com/wp-content/uploads/2023/06/Activites-manuelles-_1_.webp
END:VEVENT
BEGIN:VEVENT
DTSTART;TZID=Europe/Paris:20250322T140000
DTEND;TZID=Europe/Paris:20250322T170000
DTSTAMP:20260422T133103
CREATED:20250225T100353Z
LAST-MODIFIED:20250225T100353Z
UID:10001640-1742652000-1742662800@bom93.com
SUMMARY:Permanence couture
DESCRIPTION:Besoin d’un coup de pouce pour réparer un t-shirt troué ? Changer la fermeture éclair d’un jean ? Vous lancer un projet de couture en découvrant les bases de l’utilisation d’une machine à coudre ?\nLes permanences couture de la BOM vous permettent de profiter de l’espace et des machines de la BOM. Les permanences sont encadrées par des bénévoles pour vous guider et vous conseiller sur l’utilisation des machines. \nSans inscription\, dans la limite des places disponibles 🙂\nLa participation financière est libre\, à la hauteur de vos moyens. Elle permet de contribuer aux frais de gestion de la BOM.
URL:https://bom93.com/event/permanence-couture-39/
LOCATION:La BOM\, 2 rue Girard\, Montreuil\, 93100\, France
CATEGORIES:Atelier,Couture,Partage de savoir,Réparation
ATTACH;FMTTYPE=image/webp:https://bom93.com/wp-content/uploads/2023/06/Activites-manuelles-_1_.webp
END:VEVENT
BEGIN:VEVENT
DTSTART;TZID=Europe/Paris:20250319T140000
DTEND;TZID=Europe/Paris:20250319T170000
DTSTAMP:20260422T133103
CREATED:20250224T152013Z
LAST-MODIFIED:20250224T152037Z
UID:10001636-1742392800-1742403600@bom93.com
SUMMARY:Permanence couture
DESCRIPTION:Besoin d’un coup de pouce pour réparer un t-shirt troué ? Changer la fermeture éclair d’un jean ? Vous lancer un projet de couture en découvrant les bases de l’utilisation d’une machine à coudre ?\nLes permanences couture de la BOM vous permettent de profiter de l’espace et des machines de la BOM. Les permanences sont encadrées par des bénévoles pour vous guider et vous conseiller sur l’utilisation des machines. \nSans inscription\, dans la limite des places disponibles 🙂\nLa participation financière est libre\, à la hauteur de vos moyens. Elle permet de contribuer aux frais de gestion de la BOM.
URL:https://bom93.com/event/permanence-couture-36/
LOCATION:La BOM\, 2 rue Girard\, Montreuil\, 93100\, France
CATEGORIES:Atelier,Couture,Partage de savoir,Réparation
ATTACH;FMTTYPE=image/webp:https://bom93.com/wp-content/uploads/2023/06/Activites-manuelles-_1_.webp
END:VEVENT
BEGIN:VEVENT
DTSTART;TZID=Europe/Paris:20250312T140000
DTEND;TZID=Europe/Paris:20250312T170000
DTSTAMP:20260422T133103
CREATED:20250225T100226Z
LAST-MODIFIED:20250225T100226Z
UID:10001639-1741788000-1741798800@bom93.com
SUMMARY:Permanence couture
DESCRIPTION:Besoin d’un coup de pouce pour réparer un t-shirt troué ? Changer la fermeture éclair d’un jean ? Vous lancer un projet de couture en découvrant les bases de l’utilisation d’une machine à coudre ?\nLes permanences couture de la BOM vous permettent de profiter de l’espace et des machines de la BOM. Les permanences sont encadrées par des bénévoles pour vous guider et vous conseiller sur l’utilisation des machines. \nSans inscription\, dans la limite des places disponibles 🙂\nLa participation financière est libre\, à la hauteur de vos moyens. Elle permet de contribuer aux frais de gestion de la BOM.
URL:https://bom93.com/event/permanence-couture-38/
LOCATION:La BOM\, 2 rue Girard\, Montreuil\, 93100\, France
CATEGORIES:Atelier,Couture,Partage de savoir,Réparation
ATTACH;FMTTYPE=image/webp:https://bom93.com/wp-content/uploads/2023/06/Activites-manuelles-_1_.webp
END:VEVENT
BEGIN:VEVENT
DTSTART;TZID=Europe/Paris:20250308T140000
DTEND;TZID=Europe/Paris:20250308T170000
DTSTAMP:20260422T133103
CREATED:20250225T095951Z
LAST-MODIFIED:20250225T095951Z
UID:10001638-1741442400-1741453200@bom93.com
SUMMARY:Permanence couture
DESCRIPTION:Besoin d’un coup de pouce pour réparer un t-shirt troué ? Changer la fermeture éclair d’un jean ? Vous lancer un projet de couture en découvrant les bases de l’utilisation d’une machine à coudre ?\nLes permanences couture de la BOM vous permettent de profiter de l’espace et des machines de la BOM. Les permanences sont encadrées par des bénévoles pour vous guider et vous conseiller sur l’utilisation des machines. \nSans inscription\, dans la limite des places disponibles 🙂\nLa participation financière est libre\, à la hauteur de vos moyens. Elle permet de contribuer aux frais de gestion de la BOM.
URL:https://bom93.com/event/permanence-couture-37/
LOCATION:La BOM\, 2 rue Girard\, Montreuil\, 93100\, France
CATEGORIES:Atelier,Couture,Partage de savoir,Réparation
ATTACH;FMTTYPE=image/webp:https://bom93.com/wp-content/uploads/2023/06/Activites-manuelles-_1_.webp
END:VEVENT
BEGIN:VEVENT
DTSTART;TZID=Europe/Paris:20250305T140000
DTEND;TZID=Europe/Paris:20250305T170000
DTSTAMP:20260422T133103
CREATED:20250224T151934Z
LAST-MODIFIED:20250224T151934Z
UID:10001635-1741183200-1741194000@bom93.com
SUMMARY:Permanence couture
DESCRIPTION:Besoin d’un coup de pouce pour réparer un t-shirt troué ? Changer la fermeture éclair d’un jean ? Vous lancer un projet de couture en découvrant les bases de l’utilisation d’une machine à coudre ?\nLes permanences couture de la BOM vous permettent de profiter de l’espace et des machines de la BOM. Les permanences sont encadrées par des bénévoles pour vous guider et vous conseiller sur l’utilisation des machines. \nSans inscription\, dans la limite des places disponibles 🙂\nLa participation financière est libre\, à la hauteur de vos moyens. Elle permet de contribuer aux frais de gestion de la BOM.
URL:https://bom93.com/event/permanence-couture-35/
LOCATION:La BOM\, 2 rue Girard\, Montreuil\, 93100\, France
CATEGORIES:Atelier,Couture,Partage de savoir,Réparation
ATTACH;FMTTYPE=image/webp:https://bom93.com/wp-content/uploads/2023/06/Activites-manuelles-_1_.webp
END:VEVENT
END:VCALENDAR